BEGIN:VCALENDAR
VERSION:2.0
PRODID:-//Métro Québec - ECPv6.15.18//NONSGML v1.0//EN
CALSCALE:GREGORIAN
METHOD:PUBLISH
X-WR-CALNAME:Métro Québec
X-ORIGINAL-URL:https://metroquebec.com
X-WR-CALDESC:évènements pour Métro Québec
REFRESH-INTERVAL;VALUE=DURATION:PT1H
X-Robots-Tag:noindex
X-PUBLISHED-TTL:PT1H
BEGIN:VTIMEZONE
TZID:America/Toronto
BEGIN:DAYLIGHT
TZOFFSETFROM:-0500
TZOFFSETTO:-0400
TZNAME:EDT
DTSTART:20210314T070000
END:DAYLIGHT
BEGIN:STANDARD
TZOFFSETFROM:-0400
TZOFFSETTO:-0500
TZNAME:EST
DTSTART:20211107T060000
END:STANDARD
BEGIN:DAYLIGHT
TZOFFSETFROM:-0500
TZOFFSETTO:-0400
TZNAME:EDT
DTSTART:20220313T070000
END:DAYLIGHT
BEGIN:STANDARD
TZOFFSETFROM:-0400
TZOFFSETTO:-0500
TZNAME:EST
DTSTART:20221106T060000
END:STANDARD
BEGIN:DAYLIGHT
TZOFFSETFROM:-0500
TZOFFSETTO:-0400
TZNAME:EDT
DTSTART:20230312T070000
END:DAYLIGHT
BEGIN:STANDARD
TZOFFSETFROM:-0400
TZOFFSETTO:-0500
TZNAME:EST
DTSTART:20231105T060000
END:STANDARD
BEGIN:DAYLIGHT
TZOFFSETFROM:-0500
TZOFFSETTO:-0400
TZNAME:EDT
DTSTART:20240310T070000
END:DAYLIGHT
BEGIN:STANDARD
TZOFFSETFROM:-0400
TZOFFSETTO:-0500
TZNAME:EST
DTSTART:20241103T060000
END:STANDARD
END:VTIMEZONE
BEGIN:VEVENT
DTSTART;TZID=America/Toronto:20230417T080000
DTEND;TZID=America/Toronto:20230417T170000
DTSTAMP:20260419T132723
CREATED:20230417T155143Z
LAST-MODIFIED:20230417T194435Z
UID:366962-1681718400-1681750800@metroquebec.com
SUMMARY:Exposition : La méduse - Boum
DESCRIPTION:Avec un petit appartement à elle seule\, un emploi stable qui lui plaît et un béguin pour une cliente de sa librairie\, on pourrait croire qu’Odette a tout pour être heureuse… mais une méduse apparaît dans son œil et vient chambouler sa vie. Plus récente bande dessinée de Samantha Leriche-Gionet\, alias Boum\, La Méduse offre un récit à la fois touchant et étouffant\, qui témoigne de l’importance de prendre la main qui nous est tendue pour que les ténèbres de la maladie et du deuil se dissipent enfin. \n\n\n\nDans le cadre du 36e Festival Québec BD en collaboration avec les éditions Pow Pow et la Bibliothèque de Québec. \n\n\n\nPublic : Tous
URL:https://metroquebec.com/evenement/exposition-la-meduse-boum/
LOCATION:Bibliothèque Paul-Aimé-Paiement\, 7950 1re Av.\, Québec\, G1H 2Y4\, Canada
CATEGORIES:Communautaire
ATTACH;FMTTYPE=image/jpeg:https://metroquebec.com/wp-content/uploads/2023/04/pow-couverture-meduse-rbg.jpeg
END:VEVENT
BEGIN:VEVENT
DTSTART;TZID=America/Toronto:20230417T080000
DTEND;TZID=America/Toronto:20230417T170000
DTSTAMP:20260419T132723
CREATED:20230417T144016Z
LAST-MODIFIED:20230417T194510Z
UID:366931-1681718400-1681750800@metroquebec.com
SUMMARY:Exposition : Cuba/Québec : une rencontre - Anne Villeneuve / Paul Bordeleau
DESCRIPTION:Fin 2022\, les artistes ont séjourné à La Havane (Cuba) pour découvrir la ville et sa culture\, mais aussi rencontrer certains des artistes qui donnent vie au 9e art cubain. À travers cette exposition\, faites connaissance avec certains des créateurs et créatrices qu’ils ont côtoyés à la Vitrina de Valonia\, un centre culturel dédié à la bande dessinée\, et voyagez en dessin avec eux. \n\n\n\nDans le cadre du 36e Festival Québec BD en collaboration avec la Vitrina de Valonia et le ministère de la Culture et des Communications. \n\n\n\nPublic : Tous
URL:https://metroquebec.com/evenement/exposition-cuba-quebec-une-rencontre-anne-villeneuve-paul-bordeleau/
LOCATION:Bibliothèque Roger-Lemelin\, 4705 Rue de la Promenade des Soeurs\, Québec\, QC\, G1Y 2W2\, Canada
CATEGORIES:Communautaire
ATTACH;FMTTYPE=image/jpeg:https://metroquebec.com/wp-content/uploads/2023/04/qc-cuba-rencontre.jpeg
END:VEVENT
BEGIN:VEVENT
DTSTART;TZID=America/Toronto:20230413T000000
DTEND;TZID=America/Toronto:20230513T235959
DTSTAMP:20260419T132723
CREATED:20230508T192534Z
LAST-MODIFIED:20230509T172850Z
UID:370319-1681344000-1684022399@metroquebec.com
SUMMARY:Jeu d'évasion | Es-tu prêt en cas de sinistres?
DESCRIPTION:Vous adorez les énigmes? Nous aussi! Advenant un sinistre\, seriez-vous prêt à y faire face? Testez vos connaissances par le jeu et faites aller vos méninges! Le défi est lancé! \n\n\n\nACCÉDER AU JEU >
URL:https://metroquebec.com/evenement/jeu-devasion-es-tu-pret-en-cas-de-sinistres/
CATEGORIES:Communautaire
ATTACH;FMTTYPE=image/jpeg:https://metroquebec.com/wp-content/uploads/2023/05/525x347-jeu-enigme.jpeg
END:VEVENT
BEGIN:VEVENT
DTSTART;TZID=America/Toronto:20230405T080000
DTEND;TZID=America/Toronto:20230501T170000
DTSTAMP:20260419T132723
CREATED:20230417T142756Z
LAST-MODIFIED:20230417T194548Z
UID:366918-1680681600-1682960400@metroquebec.com
SUMMARY:Exposition : Les chercheuses en BD - Collectif
DESCRIPTION:À travers une rencontre originale entre le 9e art et la science\, découvrez onze chercheuses provenant du réseau de l’Université du Québec à travers le regard de onze autrices de bande dessinée du Québec et de France. En plus de présenter les portraits inspirants de femmes qui ont choisi des vocations scientifiques et qui ont fait leur marque dans leurs domaines respectifs\, ces récits visent à encourager toutes les femmes intéressées par une carrière dans la recherche et les sciences. \n\n\n\nDans le cadre du 36e Festival Québec BD en collaboration avec le Consulat général de France à Québec et la Bibliothèque de Québec. \n\n\n\nPublic : Tous
URL:https://metroquebec.com/evenement/exposition-les-chercheuses-en-bd-collectif/
LOCATION:Bibliothèque Étienne-Parent\, 3515 Rue Clemenceau\, Québec\, QC\, Canada
CATEGORIES:Communautaire
ATTACH;FMTTYPE=image/jpeg:https://metroquebec.com/wp-content/uploads/2023/04/chercheuses-jordanne-maynard.jpeg
END:VEVENT
BEGIN:VEVENT
DTSTART;TZID=America/Toronto:20230404T080000
DTEND;TZID=America/Toronto:20230502T170000
DTSTAMP:20260419T132723
CREATED:20230417T174504Z
LAST-MODIFIED:20230417T181532Z
UID:367050-1680595200-1683046800@metroquebec.com
SUMMARY:Exposition : Au cœur de la nature - Lucie Théroux et Odile Méthot
DESCRIPTION:Inspirées par la nature\, les artistes vous feront découvrir ce qui les anime au cœur de la faune et de la flore qui sont sources d’inspiration.Pour Lucie Théroux\, c’est la faune en danger d’extinction qu’elle aime peindre sur fond noir pour illustrer le néant qui menace ces bêtes. Elle capte l’animal dans toute sa vulnérabilité.Du côté d’Odile Méthot\, elle se laisse émerveiller par les couleurs\, les odeurs et les émotions que la flore lui inspire. C’est imprégné de cette beauté et de cette fragilité\, qu’elle aborde ses tableaux en brodant certains détails de fil doré. \n\n\n\nCette exposition est organisée avec la collaboration de la Société Artistique de la Haute-Saint-Charles.
URL:https://metroquebec.com/evenement/exposition-au-coeur-de-la-nature-lucie-theroux-et-odile-methot/
LOCATION:Bibliothèque Chrystine-Brouillet\, 264 rue Racine\, Québec\, QC\, G2A 2M4\, Canada
CATEGORIES:Communautaire
ATTACH;FMTTYPE=image/jpeg:https://metroquebec.com/wp-content/uploads/2023/04/au-coeur-nature-maruche.jpeg
END:VEVENT
BEGIN:VEVENT
DTSTART;TZID=America/Toronto:20230401T080000
DTEND;TZID=America/Toronto:20230501T170000
DTSTAMP:20260419T132723
CREATED:20230417T153712Z
LAST-MODIFIED:20230417T194725Z
UID:366943-1680336000-1682960400@metroquebec.com
SUMMARY:Exposition : Pierre Fournier - Hommage
DESCRIPTION:À travers cette exposition\, découvrez certains hommages rendus spontanément à Pierre Fournier par plusieurs de ses amis et collègues issus du 9e art québécois lors de son décès à l’automne 2022. Artisan clé du magazine Croc\, créateur de Capitaine Kébec et\, avec son complice Réal Godbout\, de Michel Risque et de Red Ketchup\, il a marqué des générations de lecteurs avec ses univers. \n\n\n\nDans le cadre du 36e Festival Québec BD en collaboration avec la Bibliothèque de Québec. \n\n\n\nPublic : Tous
URL:https://metroquebec.com/evenement/exposition-pierre-fournier-hommage/
LOCATION:Bibliothèque Neufchâtel\, 4060\, rue Blain\, Québec\, QC\, G2B 5C3\, Canada
CATEGORIES:Communautaire
ATTACH;FMTTYPE=image/jpeg:https://metroquebec.com/wp-content/uploads/2023/04/pierre-fournier.jpeg
END:VEVENT
BEGIN:VEVENT
DTSTART;TZID=America/Toronto:20230331T080000
DTEND;TZID=America/Toronto:20230523T170000
DTSTAMP:20260419T132723
CREATED:20230417T170340Z
LAST-MODIFIED:20230417T195655Z
UID:367006-1680249600-1684861200@metroquebec.com
SUMMARY:Exposition : Delphie Côté-Lacroix
DESCRIPTION:Venez découvrir l’univers graphique de l’illustratrice qui a réalisé l’affiche de la 36e édition du festival Québec BD. Dessinant parfois pour des affiches\, parfois pour de l’animation\, mais surtout pour des livres\, ses œuvres ont reçu plusieurs récompenses\, dont un Prix littéraire du Gouverneur général. Elle croit que c’est le rôle des artistes de rendre disponibles ces histoires qui construisent l’identité collective avec nuance et complexité et souhaite à son tour contribuer à cette œuvre collective. \n\n\n\nDans le cadre du 36e Festival Québec BD en collaboration avec la Bibliothèque de Québec. \n\n\n\nPublic : Tous
URL:https://metroquebec.com/evenement/exposition-delphie-cote-lacroix/
LOCATION:Bibliothèque Collège-des-Jésuites\, 1120\, boulevard René-Lévesque Ouest\, Québec\, QC\, G1S 4W4\, Canada
CATEGORIES:Communautaire
ATTACH;FMTTYPE=image/jpeg:https://metroquebec.com/wp-content/uploads/2023/04/delphie-cote-lacroix.jpeg
END:VEVENT
BEGIN:VEVENT
DTSTART;TZID=America/Toronto:20230330T080000
DTEND;TZID=America/Toronto:20230502T170000
DTSTAMP:20260419T132723
CREATED:20230417T154320Z
LAST-MODIFIED:20230417T195607Z
UID:366948-1680163200-1683046800@metroquebec.com
SUMMARY:Exposition : L'Agent double - Voro et François Lapierre
DESCRIPTION:Un personnage psychologiquement instable. Une enquête sur un complot de meurtre. Deux réalités qui s’opposent. Élaborée à quatre mains par les auteurs Voro et François Lapierre\, cette bande dessinée offre un thriller psychologique qui se situe entre un film de Tarantino et Vol au-dessus d’un nid de coucou. Découvrez les coulisses de la création de ce récit insolite et une sélection de planches. \n\n\n\nDans le cadre du 36e Festival Québec BD en collaboration avec les éditions Paquet\, Hachette Canada et la Bibliothèque de Québec. \n\n\n\nPublic : Tous
URL:https://metroquebec.com/evenement/exposition-lagent-double-voro-et-francois-lapierre/
LOCATION:Bibliothèque Aliette-Marchand\, 243 Pierre-Bertrand Blvd\, Québec City\, QC\, G1M 2C7\, Canada
CATEGORIES:Communautaire
ATTACH;FMTTYPE=image/jpeg:https://metroquebec.com/wp-content/uploads/2023/04/l-agent-double-voro-2023.jpeg
END:VEVENT
BEGIN:VEVENT
DTSTART;TZID=America/Toronto:20230329T080000
DTEND;TZID=America/Toronto:20230504T170000
DTSTAMP:20260419T132723
CREATED:20230417T154913Z
LAST-MODIFIED:20230417T195544Z
UID:366957-1680076800-1683219600@metroquebec.com
SUMMARY:Exposition : Fabriqué au Rana Plaza - François Simard
DESCRIPTION:Le 24 avril 2013\, l’immeuble Rana Plaza s’effondrait au cœur de la capitale du Bangladesh\, faisant plus de 1130 victimes. Le bâtiment abritait plusieurs ateliers de confection de vêtements destinés à l’exportation où œuvraient des milliers de travailleurs et\, surtout\, de travailleuses. Lancée à l’occasion de la Semaine du développement international\, la bande dessinée de François Simard nous transporte avec sensibilité au cœur de cette tragédie\, en abordant les questions de la responsabilité et de la solidarité\, tant ici qu’à l’échelle mondiale. \n\n\n\nDans le cadre du 36e Festival Québec BD en collaboration avec l’AQOCI\, Affaires mondiales Canada et la Bibliothèque de Québec. \n\n\n\nPublic : Tous
URL:https://metroquebec.com/evenement/exposition-fabrique-au-rana-plaza-francois-simard/
LOCATION:Bibliothèque Félix-Leclerc\, 1465 Rue de l'Innovation\, Québec\, QC\, G3K 2P9\, Canada
CATEGORIES:Communautaire
ATTACH;FMTTYPE=image/jpeg:https://metroquebec.com/wp-content/uploads/2023/04/rana-plaza.jpeg
END:VEVENT
BEGIN:VEVENT
DTSTART;TZID=America/Toronto:20230328T080000
DTEND;TZID=America/Toronto:20230430T170000
DTSTAMP:20260419T132723
CREATED:20230417T144411Z
LAST-MODIFIED:20230417T195520Z
UID:366936-1679990400-1682874000@metroquebec.com
SUMMARY:Exposition : Chevaucher l'éclair - Catherine Lepage
DESCRIPTION:Artiste multidisciplinaire originaire de Québec\, l’artiste s’intéresse dans tous ses projets à l’humain et à ses zones d’ombre. Cette exposition vous invite à découvrir son univers coloré\, à travers une sélection d’illustrations tirées de ses albums. \n\n\n\nDans le cadre du 36e Festival Québec BD en collaboration avec la Bibliothèque de Québec et les éditions de La Pastèque. \n\n\n\nPublic : Tous
URL:https://metroquebec.com/evenement/exposition-chevaucher-leclair-catherine-lepage/
CATEGORIES:Communautaire
ATTACH;FMTTYPE=image/jpeg:https://metroquebec.com/wp-content/uploads/2023/04/chevaucherleclair-catherine-lepage.jpeg
END:VEVENT
BEGIN:VEVENT
DTSTART;TZID=America/Toronto:20230325T080000
DTEND;TZID=America/Toronto:20230503T170000
DTSTAMP:20260419T132723
CREATED:20230417T154624Z
LAST-MODIFIED:20230417T195502Z
UID:366954-1679731200-1683133200@metroquebec.com
SUMMARY:Exposition : L'univers de Capitaine Acadie - Studios Bédécomics
DESCRIPTION:Superhéros aux pouvoirs surnaturels\, le Capitaine Acadie protège la Terre des forces du mal et défend les communautés francophones et acadiennes contre ce qui les menace. Dans cette exposition\, les concepteurs de la série ont rassemblé des extraits des divers tomes\, des illustrations inédites et des séquences animées grâce à la réalité augmentée. Tout est là pour découvrir de façon ludique et informative le héros et ses ennemis\, avec pour trame de fond les régions francophones et acadiennes. \n\n\n\nDans le cadre du 36e Festival Québec BD\, en collaboration avec les Studios Bédécomics et la Bibliothèque de Québec. \n\n\n\nPublic : Tous
URL:https://metroquebec.com/evenement/exposition-lunivers-de-capitaine-acadie-studios-bedecomics/
LOCATION:Bibliothèque Monique-Corriveau\, 1100 Rte de l'Église\, Québec\, QC\, G1V 3V9\, Canada
CATEGORIES:Communautaire
ATTACH;FMTTYPE=image/jpeg:https://metroquebec.com/wp-content/uploads/2023/04/capitaine-acadie-1.jpeg
END:VEVENT
BEGIN:VEVENT
DTSTART;TZID=America/Toronto:20230324T080000
DTEND;TZID=America/Toronto:20230524T170000
DTSTAMP:20260419T132724
CREATED:20230417T172304Z
LAST-MODIFIED:20230417T181631Z
UID:367012-1679644800-1684947600@metroquebec.com
SUMMARY:Exposition Québec\, terre d'immigrants
DESCRIPTION:Québec est une ville construite par des immigrants\, d’hier à aujourd’hui. Ces gens de tous les horizons ont apporté dans leurs bagages des cultures vibrantes. Le patrimoine permet d’aller à la rencontre de ces cultures : il inclut la cuisine\, les fêtes\, la musique\, l’artisanat\, etc. Découvrez le patrimoine des immigrants en écoutant les histoires du passé et les paroles de nos concitoyens d’aujourd’hui! \n\n\n\nPublic : Tous
URL:https://metroquebec.com/evenement/exposition-quebec-terre-dimmigrants/
LOCATION:Bibliothèque Charles-H.-Blais\, 1445 Av. Maguire\, Québec\, QC\, G1T 2W9\, Canada
CATEGORIES:Communautaire
ATTACH;FMTTYPE=image/jpeg:https://metroquebec.com/wp-content/uploads/2023/04/robinson.jpeg
END:VEVENT
BEGIN:VEVENT
DTSTART;TZID=America/Toronto:20230318T080000
DTEND;TZID=America/Toronto:20230420T170000
DTSTAMP:20260419T132724
CREATED:20230417T143334Z
LAST-MODIFIED:20230417T181638Z
UID:366926-1679126400-1682010000@metroquebec.com
SUMMARY:Exposition : 50 ans d’engagement pour l’égalité entre les femmes et les hommes
DESCRIPTION:Présentée dans le cadre des célébrations entourant le 50e anniversaire de création du Conseil du statut de la femme\, cette exposition met en lumière le chemin parcouru en matière d’égalité entre les femmes et les hommes depuis les cinquante dernières années. Elle s’intéresse à la fois aux avancées qui ont marqué le Québec\, aux mouvements sociaux et acteurs de changement qui les ont portées et aux pas qui restent à faire dans cette marche vers un Québec pleinement égalitaire. \n\n\n\nPhoto prise lors du lancement du document Pour les Québécoises : égalité et indépendance du Conseil du statut de la femme.1978. Fonds Ministère des Communications. Bibliothèque et Archives nationales du Québec. \n\n\n\nPublic : Tous
URL:https://metroquebec.com/evenement/exposition-50-ans-dengagement-pour-legalite-entre-les-femmes-et-les-hommes/
LOCATION:Bibliothèque Monique-Corriveau\, 1100 Rte de l'Église\, Québec\, QC\, G1V 3V9\, Canada
CATEGORIES:Communautaire
ATTACH;FMTTYPE=image/jpeg:https://metroquebec.com/wp-content/uploads/2023/04/ph-henri-remillard.jpeg
END:VEVENT
BEGIN:VEVENT
DTSTART;TZID=America/Toronto:20230314T080000
DTEND;TZID=America/Toronto:20230514T170000
DTSTAMP:20260419T132724
CREATED:20230417T165910Z
LAST-MODIFIED:20230417T181642Z
UID:366997-1678780800-1684083600@metroquebec.com
SUMMARY:Exposition : Kwatendotonnionhk
DESCRIPTION:Depuis des temps immémoriaux\, les valeurs\, le vécu et les savoirs des Wendats sont transmis par de grands récits. Venez découvrir ces histoires qui expliquent l’ordre du monde\, racontent les aventures d’hommes et d’animaux\, matérialisent les liens entre les ancêtres et les vivants\, et incarnent des valeurs importantes comme l’accueil et la réciprocité. \n\n\n\nPublic : Tous
URL:https://metroquebec.com/evenement/exposition-kwatendotonnionhk/
LOCATION:Bibliothèque du centre récréatif Saint-Roch\, 230 Rue du Pont\, Québec\, QC\, G1K 6L5\, Canada
CATEGORIES:Communautaire
ATTACH;FMTTYPE=image/jpeg:https://metroquebec.com/wp-content/uploads/2023/04/visuel-tortue.jpeg
END:VEVENT
BEGIN:VEVENT
DTSTART;TZID=America/Toronto:20230201T000000
DTEND;TZID=America/Toronto:20230630T235959
DTSTAMP:20260419T132724
CREATED:20230417T173412Z
LAST-MODIFIED:20230505T181620Z
UID:367036-1675209600-1688169599@metroquebec.com
SUMMARY:Acqua Alta
DESCRIPTION:Avec une tablette\, les pages du livre Acqua Alta – La traversée du miroir deviennent de petits théâtres où se déploie une forme mouvante grâce à l’application développée sur mesure. Une expérience au croisement du théâtre\, de la danse\, de la BD\, du film d’animation et du jeu vidéo.Conçu\, produit et édité par Adrien M et Claire B\, le projet Acqua Alta raconte l’histoire d’une catastrophe particulière et universelle à la fois. C’est l’histoire d’une perte et d’une quête\, l’histoire de la peur de l’étrange et de l’altérité\, et de son apprivoisement. \n\n\n\nPrésenté en collaboration avec le Mois Multi. \n\n\n\nL’activité est disponible sur les heures d’ouverture des Médialabs :  \n\n\n\nJourHeuresLundi et mardiFerméMercredi et jeudi16 h à 20 hVendredi13 h à 17 hSamedi et dimanche12 h à 17 h
URL:https://metroquebec.com/evenement/acqua-alta-2/
LOCATION:Bibliothèque Paul-Aimé-Paiement\, 7950 1re Av.\, Québec\, G1H 2Y4\, Canada
CATEGORIES:Communautaire
ATTACH;FMTTYPE=image/jpeg:https://metroquebec.com/wp-content/uploads/2023/04/visuel-acqua-alta1.jpeg
END:VEVENT
BEGIN:VEVENT
DTSTART;TZID=America/Toronto:20230201T000000
DTEND;TZID=America/Toronto:20230630T235959
DTSTAMP:20260419T132724
CREATED:20230417T173220Z
LAST-MODIFIED:20230508T194713Z
UID:367033-1675209600-1688169599@metroquebec.com
SUMMARY:Acqua Alta
DESCRIPTION:Avec une tablette\, les pages du livre Acqua Alta – La traversée du miroir deviennent de petits théâtres où se déploie une forme mouvante grâce à l’application développée sur mesure. Une expérience au croisement du théâtre\, de la danse\, de la BD\, du film d’animation et du jeu vidéo.Conçu\, produit et édité par Adrien M et Claire B\, le projet Acqua Alta raconte l’histoire d’une catastrophe particulière et universelle à la fois. C’est l’histoire d’une perte et d’une quête\, l’histoire de la peur de l’étrange et de l’altérité\, et de son apprivoisement. \n\n\n\nPrésenté en collaboration avec le Mois Multi. \n\n\n\nL’activité est disponible sur les heures d’ouverture des Médialabs :  \n\n\n\nJourHeuresLundi et mardiFerméMercredi et jeudi16 h à 20 hVendredi13 h à 17 hSamedi et dimanche12 h à 17 h
URL:https://metroquebec.com/evenement/acqua-alta/
LOCATION:Bibliothèque Félix-Leclerc\, 1465 Rue de l'Innovation\, Québec\, QC\, G3K 2P9\, Canada
CATEGORIES:Communautaire
ATTACH;FMTTYPE=image/jpeg:https://metroquebec.com/wp-content/uploads/2023/04/visuel-acqua-alta1.jpeg
END:VEVENT
BEGIN:VEVENT
DTSTART;TZID=America/Toronto:20221201T000000
DTEND;TZID=America/Toronto:20230601T235959
DTSTAMP:20260419T132724
CREATED:20230508T191157Z
LAST-MODIFIED:20230509T172350Z
UID:370314-1669852800-1685663999@metroquebec.com
SUMMARY:Conte en famille : Le lion et l'oiseau
DESCRIPTION:Un jour d’automne\, un lion trouve un oiseau blessé de son jardin. Alors que le reste des oiseaux continuent leur route sans lui\, le lion décide de prendre soin de l’oiseau. Pourtant\, un jour\, l’oiseau devra poursuivre sa route… \n\n\n\nUne histoire écrite et illustrée par Marianne Dubuc. Une lecture de Geneviève Thibault accompagnée à la musique par Jade Builles. \n\n\n\nVisionner le conte en ligne > \n\n\n\nPour voir l’ensemble des contes disponibles\, visitez la page  Contes en ligne  de notre programme d’éveil à la lecture!
URL:https://metroquebec.com/evenement/conte-en-famille-le-lion-et-loiseau/
CATEGORIES:Communautaire
ATTACH;FMTTYPE=image/jpeg:https://metroquebec.com/wp-content/uploads/2023/05/conteenfamille.jpeg
END:VEVENT
END:VCALENDAR